BEGIN:VCALENDAR
VERSION:2.0
PRODID:-//온라인영세교회 - ECPv6.15.13//NONSGML v1.0//EN
CALSCALE:GREGORIAN
METHOD:PUBLISH
X-ORIGINAL-URL:https://ygen.kr
X-WR-CALDESC:온라인영세교회 이벤트
REFRESH-INTERVAL;VALUE=DURATION:PT1H
X-Robots-Tag:noindex
X-PUBLISHED-TTL:PT1H
BEGIN:VTIMEZONE
TZID:Asia/Seoul
BEGIN:STANDARD
TZOFFSETFROM:+0900
TZOFFSETTO:+0900
TZNAME:KST
DTSTART:20200101T000000
END:STANDARD
END:VTIMEZONE
BEGIN:VEVENT
DTSTART;TZID=Asia/Seoul:20220410T070000
DTEND;TZID=Asia/Seoul:20220410T130000
DTSTAMP:20260424T200624
CREATED:20220326T012609Z
LAST-MODIFIED:20220326T012609Z
UID:3885-1649574000-1649595600@ygen.kr
SUMMARY:성찬성례전
DESCRIPTION:
URL:https://ygen.kr/event/%ec%84%b1%ec%b0%ac%ec%84%b1%eb%a1%80%ec%a0%84-2/
END:VEVENT
BEGIN:VEVENT
DTSTART;TZID=Asia/Seoul:20220403T160000
DTEND;TZID=Asia/Seoul:20220403T170000
DTSTAMP:20260424T200624
CREATED:20220326T012531Z
LAST-MODIFIED:20220326T012531Z
UID:3883-1649001600-1649005200@ygen.kr
SUMMARY:세례성례전
DESCRIPTION:
URL:https://ygen.kr/event/%ec%84%b8%eb%a1%80%ec%84%b1%eb%a1%80%ec%a0%84/
END:VEVENT
BEGIN:VEVENT
DTSTART;TZID=Asia/Seoul:20220401T200000
DTEND;TZID=Asia/Seoul:20220401T213000
DTSTAMP:20260424T200624
CREATED:20220326T012706Z
LAST-MODIFIED:20220326T012755Z
UID:3888-1648843200-1648848600@ygen.kr
SUMMARY:금요성령기도회
DESCRIPTION:
URL:https://ygen.kr/event/%ea%b8%88%ec%9a%94%ec%84%b1%eb%a0%b9%ea%b8%b0%eb%8f%84%ed%9a%8c/
END:VEVENT
BEGIN:VEVENT
DTSTART;TZID=Asia/Seoul:20210704T073000
DTEND;TZID=Asia/Seoul:20210704T153000
DTSTAMP:20260424T200624
CREATED:20210625T063428Z
LAST-MODIFIED:20210625T071255Z
UID:1512-1625383800-1625412600@ygen.kr
SUMMARY:성찬성례전
DESCRIPTION:
URL:https://ygen.kr/event/%ec%84%b1%ec%b0%ac%ec%84%b1%eb%a1%80%ec%a0%84/
CATEGORIES:교회일정
END:VEVENT
END:VCALENDAR